Workbook

Sheet 申請書
B1: 様式第１号(第２条関係) | P1: ※申請者は太枠内のみ記入すること。
B2: 登米市迫公民館利用許可申請書 | G2: 申請者 | H2: 住 所 | X2: 利用者区分
B3: 兼使用料減免申請書 | H3: 団体名 | X3: １.登米市内
B4: (あて先) | H4: 代表者 | U4: TEL
B5: 佐沼地区コミュニティ推進協議会 会長 | X5: ２.登米市外
B6: 令和 年 月 日 | H6: (担当者 | U6: TEL )
B7: 利 用 目 的 | S7: 入場料などの | W7: 有 (入場料、参加費、負担金
W8: １人 円)
B9: 減 免 理 由 | D9: 地方公共団体(県・市),行政関連団体(５割減額),社会福祉団体,地域振興団体,産業経済団体(５割減額),学校等関係等 社会教育団体(文化協会・体育協会・子ども会・スポ少・PTA・スポーツクラブ・無形文化財) 公益社団法人・公益財団法人(５割減額)、減免適用団体登録(全額免除・５割減額) | S9: 徴収の有無 | W9: 無
B10: 利 用 日 時 (利用する部屋ごとに記入) | H10: 利用する部屋名に〇印 | Q10: 利用 予定 人員 | S10: 使 用 料 内 訳
H11: 軽運動場 | I11: 大会議室 | J11: 小会議室 | K11: 音楽室 | L11: 視聴覚室 | M11: 研修室 | N11: 集会室 | O11: 講習室 | P11: 調理室
B15: 令和 年 月 日( 曜) 時 分～ 時 分 | S15: 使 用 料 | V15: ( 円) × ( 時間)＝
B17: 令和 年 月 日( 曜) 時 分～ 時 分 | S17: 使 用 料 | V17: ( 円) × ( 時間)＝
B19: 令和 年 月 日( 曜) 時 分～ 時 分 | S19: 使 用 料 | V19: ( 円) × ( 時間)＝
B21: 令和 年 月 日( 曜) 時 分～ 時 分 | S21: 使 用 料 | V21: ( 円) × ( 時間)＝
B23: 令和 年 月 日( 曜) 時 分～ 時 分 | S23: 使 用 料 | V23: ( 円) × ( 時間)＝
B25: 令和 年 月 日( 曜) 時 分～ 時 分 | S25: 使 用 料 | V25: ( 円) × ( 時間)＝
B27: 備考 | G27: 利 用 許 可 伺 | S27: 領収控印 | W27: 合 計 | X27: 円
G29: 登米市公民館管理規則第３条の規定によ | W29: 減 免 | X29: １.全額免除
G30: り上記のとおり利用を許可してよろしいか | X30: ２.５割減額
B31: 決 裁 | C31: 施設長(館長) | D31: 係 | F31: 担当 | G31: 伺います。 | W31: 納 付 額 | X31: 円
G32: 登米市公の施設の減免等に関する規則第
G33: ３条の規定により、右記のとおり使用料を | W33: 10％対象 | Y33: 消費税
G34: 減免してよろしいか伺います。 | W34: 円 | Y34: 円
M37: 受付 | S37: 扱者

Sheet 控え(記入無し)
B1: 様式第１号(第３条関係)
B2: 登米市迫公民館利用許可書 | G2: 申請者 | H2: =申請書!H2 -> 住 所 | X2: 利用者区分
B3: 兼使用料減免決定通知書 | H3: =申請書!H3 -> 団体名 | X3: １.登米市内
B4: (兼使用料領収書) | H4: =申請書!H4 -> 代表者 | U4: =申請書!U4 -> TEL
X5: =申請書!X5 -> ２.登米市外
H6: =申請書!H6 -> (担当者 | U6: =申請書!U6 -> TEL )
B7: 利 用 目 的 | D7: =申請書!$D$7 -> 0 | S7: 入場料などの | W7: =申請書!W7 -> 有 (入場料、参加費、負担金
W8: =申請書!W8 -> １人 円)
B9: 減 免 理 由 | D9: 地方公共団体(県・市),行政関連団体(５割減額),社会福祉団体,地域振興団体,産業経済団体(５割減額),学校等関係等 社会教育団体(文化協会・体育協会・子ども会・スポ少・PTA・スポーツクラブ・無形文化財) 公益社団法人・公益財団法人(５割減額)、減免適用団体登録(全額免除・５割減額) | S9: 徴収の有無 | W9: =申請書!W9 -> 無
B10: 利 用 日 時 (利用する部屋ごとに記入) | H10: 利用する部屋名に〇印 | Q10: 利用 予定 人員 | S10: 使 用 料 内 訳
H11: 軽運動場 | I11: 大会議室 | J11: 小会議室 | K11: 音楽室 | L11: 視聴覚室 | M11: 研修室 | N11: 集会室 | O11: 講習室 | P11: 調理室
B15: =申請書!B15 -> 令和 年 月 日( 曜) 時 分～ 時 分 | H15: =申請書!H15 -> 0 | I15: =申請書!I15 -> 0 | J15: =申請書!J15 -> 0 | K15: =申請書!K15 -> 0 | L15: =申請書!L15 -> 0 | M15: =申請書!M15 -> 0 | N15: =申請書!N15 -> 0 | O15: =申請書!O15 -> 0 | ... Q15: =申請書!Q15 -> 0 | S15: 使 用 料 | V15: ( 円) × ( 時間)＝
B17: =申請書!B17 -> 令和 年 月 日( 曜) 時 分～ 時 分 | H17: =申請書!H17 -> 0 | I17: =申請書!I17 -> 0 | J17: =申請書!J17 -> 0 | K17: =申請書!K17 -> 0 | L17: =申請書!L17 -> 0 | M17: =申請書!M17 -> 0 | N17: =申請書!N17 -> 0 | O17: =申請書!O17 -> 0 | ... Q17: =申請書!Q17 -> 0 | S17: 使 用 料 | V17: ( 円) × ( 時間)＝
B19: =申請書!B19 -> 令和 年 月 日( 曜) 時 分～ 時 分 | H19: =申請書!H19 -> 0 | I19: =申請書!I19 -> 0 | J19: =申請書!J19 -> 0 | K19: =申請書!K19 -> 0 | L19: =申請書!L19 -> 0 | M19: =申請書!M19 -> 0 | N19: =申請書!N19 -> 0 | O19: =申請書!O19 -> 0 | ... Q19: =申請書!Q19 -> 0 | S19: 使 用 料 | V19: ( 円) × ( 時間)＝
B21: =申請書!B21 -> 令和 年 月 日( 曜) 時 分～ 時 分 | H21: =申請書!H21 -> 0 | I21: =申請書!I21 -> 0 | J21: =申請書!J21 -> 0 | K21: =申請書!K21 -> 0 | L21: =申請書!L21 -> 0 | M21: =申請書!M21 -> 0 | N21: =申請書!N21 -> 0 | O21: =申請書!O21 -> 0 | ... Q21: =申請書!Q21 -> 0 | S21: 使 用 料 | V21: ( 円) × ( 時間)＝
B23: =申請書!B23 -> 令和 年 月 日( 曜) 時 分～ 時 分 | H23: =申請書!H23 -> 0 | I23: =申請書!I23 -> 0 | J23: =申請書!J23 -> 0 | K23: =申請書!K23 -> 0 | L23: =申請書!L23 -> 0 | M23: =申請書!M23 -> 0 | N23: =申請書!N23 -> 0 | O23: =申請書!O23 -> 0 | ... Q23: =申請書!Q23 -> 0 | S23: 使 用 料 | V23: ( 円) × ( 時間)＝
B25: =申請書!B25 -> 令和 年 月 日( 曜) 時 分～ 時 分 | H25: =申請書!H25 -> 0 | I25: =申請書!I25 -> 0 | J25: =申請書!J25 -> 0 | K25: =申請書!K25 -> 0 | L25: =申請書!L25 -> 0 | M25: =申請書!M25 -> 0 | N25: =申請書!N25 -> 0 | O25: =申請書!O25 -> 0 | ... Q25: =申請書!Q25 -> 0 | S25: 使 用 料 | V25: ( 円) × ( 時間)＝
B27: 備考 | C27: =申請書!C27 -> 0 | G27: 利用許可及び使用料減免決定 | S27: 領収印 | W27: 合 計 | X27: 円
G29: 登米市公民館管理規則第３条の規定により、上記 | W29: 減 免 | X29: １.全額免除
G30: のとおり利用を許可する。 | X30: ２.５割減額
B31: 使用上の注意 １．利用時間を守り、利用目的以外に利用しないこと。 ２．利用後は必ず清掃し、使用した備品は元に戻すこと。 ３．火気には特に注意し、ゴミは持ち帰ること。 | G31: 登米市公の施設の減免等に関する規則第３条の規 | W31: 納 付 額 | X31: 円
G32: 定により、右記のとおり使用料を減免する。
W33: 10％対象 | Y33: 消費税
G34: =申請書!$B$6 -> 令和 年 月 日 | W34: 円 | Y34: 円
G35: 佐沼地区コミュニティ推進協議会 会長
W36: 登録番号：Ｔ9700150036062
M37: 受付 | S37: 扱者

Sheet 記入例
B1: 様式第１号(第２条関係) | P1: ※申請者は太枠内のみ記入すること。
B2: 登米市迫公民館利用許可申請書 | G2: 申請者 | H2: 住 所 登米市迫町佐沼字中江〇―〇―〇 | X2: 利用者区分
B3: 兼使用料減免申請書 | H3: 団体名 佐沼〇〇協会 | X3: １.登米市内
B4: (あて先) | H4: 代表者 会長 佐沼 太郎 | U4: TEL 0220-22-0000
B5: 佐沼地区コミュニティ推進協議会 会長 | X5: ２.登米市外
B6: 46113 | H6: (担当者 佐沼 花子 | U6: TEL 同上 )
B7: 利 用 目 的 | D7: 〇〇研修会の開催 | S7: 入場料などの | W7: 有 (入場料、参加費、負担金
W8: １人 円)
B9: 減 免 理 由 | D9: 地方公共団体(県・市),行政関連団体(５割減額),社会福祉団体,地域振興団体,産業経済団体(５割減額),学校等関係等 社会教育団体(文化協会・体育協会・子ども会・スポ少・PTA・スポーツクラブ・無形文化財) 公益社団法人・公益財団法人(５割減額)、減免適用団体登録(全額免除・５割減額) | S9: 徴収の有無 | W9: 無
B10: 利 用 日 時 (利用する部屋ごとに記入) | H10: 利用する部屋名に〇印 | Q10: 利用 予定 人員 | S10: 使 用 料 内 訳
H11: 軽運動場 | I11: 大会議室 | J11: 小会議室 | K11: 音楽室 | L11: 視聴覚室 | M11: 研修室 | N11: 集会室 | O11: 講習室 | P11: 調理室
B15: 令和８年４月１０日(金曜) ９時００分～１２時００分 | I15: 〇 | Q15: 50 | S15: 使 用 料 | V15: ( 円) × ( 時間)＝
B17: 令和８年４月１０日(金曜) ９時００分～１２時００分 | J17: 〇 | Q17: 2 | S17: 使 用 料 | V17: ( 円) × ( 時間)＝
B19: 令和 年 月 日( 曜) 時 分～ 時 分 | S19: 使 用 料 | V19: ( 円) × ( 時間)＝
B21: 令和 年 月 日( 曜) 時 分～ 時 分 | S21: 使 用 料 | V21: ( 円) × ( 時間)＝
B23: 令和 年 月 日( 曜) 時 分～ 時 分 | S23: 使 用 料 | V23: ( 円) × ( 時間)＝
B25: 令和 年 月 日( 曜) 時 分～ 時 分 | S25: 使 用 料 | V25: ( 円) × ( 時間)＝
B27: 備考 | C27: プロジェクター・スクリーン借用 | G27: 利 用 許 可 伺 | S27: 領収控印 | W27: 合 計 | X27: 円
G29: 登米市公民館管理規則第３条の規定によ | W29: 減 免 | X29: １.全額免除
G30: り上記のとおり利用を許可してよろしいか | X30: ２.５割減額
B31: 決 裁 | C31: 施設長(館長) | D31: 係 | F31: 担当 | G31: 伺います。 | W31: 納 付 額 | X31: 円
G32: 登米市公の施設の減免等に関する規則第
G33: ３条の規定により、右記のとおり使用料を | W33: 10％対象 | Y33: 消費税
G34: 減免してよろしいか伺います。 | W34: 円 | Y34: 円
M37: 受付 | S37: 扱者
